BEGIN:VCALENDAR
VERSION:2.0
PRODID:-//aticket.co.il - ECPv4.3.2//NONSGML v1.0//EN
CALSCALE:GREGORIAN
METHOD:PUBLISH
X-WR-CALNAME:aticket.co.il
X-ORIGINAL-URL:https://aticket.co.il
X-WR-CALDESC:Events for aticket.co.il
BEGIN:VEVENT
DTSTART;TZID=UTC+2:20200727T193000
DTEND;TZID=UTC+2:20200727T213000
DTSTAMP:20210605T021044
CREATED:20200705T000155Z
LAST-MODIFIED:20200705T000155Z
UID:27086-1595878200-1595885400@aticket.co.il
SUMMARY:ספיד דייט 27.7   גילאי 29-44
DESCRIPTION:מקום האירוע: רוטשילד תל אביב\nתאור קצר של האירוע "ספיד דייט 27.7   גילאי 29-44":\nקטגוריה של האירוע:  (עוד מופעים בקטגוריה - מסיבות וחיי לילה בישראל)\n מארגן האירוע:  בחורות ובחורים שווים בין חברים (עוד מופעים של המארגן- כל המופעים של בחורות ובחורים שווים בין חברים)\nמה יהיה לנו?\nאז ערב יהיו בין 10-14 גבריןם ובין 10-14 נשים כל דייט אורך 5 דקות ולאחר הדייטים אתם מסמנים מי מצא חן בעינכם \nהרשימות מועברות אלינו ואם היתה לכם התאמה אנחנו מעדכנים אתכם ומקשרים בינכם ( מעבירים לכם פרטים ) \nערב חוויתי וקליל שחוסך זמן ודייטים מיותרים וממוקד למציאת אהבה למטרה רצינית  \nהערב כולו מנוהל מאורגן ומונחה עי רוית לאלזר מנהלת הקבוצה בחורות ובחורים שווים בין חבריםם \nמדיניות ביטולים: עד 10 ימים לפני האירוע החזר כספי מלא לאחר מכן זיכוי כרטיס לערב הבא \nפחות מ10 ימים  זיכוי כרטיס לערב הבא\nפרטים נוספים וכרטיסים למופע : הזמנת כרטיסים ל "ספיד דייט 27.7   גילאי 29-44"\n\n \nלוח הופעות של "ספיד דייט 27.7   גילאי 29-44":\n\nתאריך: 27/07/2020\nכתובת: רוטשילד תל אביב(כל האירועים ברוטשילד תל אביב)\nשעת התחלה: 19:30\nמחיר התחלתי: 199ש"ח\nהזמנת כרטיסים: הזמנת כרטיסים\n\nתמונות מהמופע:\n\n\n \t\n\n \n\n\n\n\n
URL:https://aticket.co.il/event/%d7%a1%d7%a4%d7%99%d7%93-%d7%93%d7%99%d7%99%d7%98-27-7-%d7%92%d7%99%d7%9c%d7%90%d7%99-29-44/
LOCATION:Israel\, Tel Aviv\, Israel\, 66645\, Israel
GEO:31.267046;35.220086
X-APPLE-STRUCTURED-LOCATION;VALUE=URI;X-ADDRESS=Israel Tel Aviv Israel 66645 Israel;X-APPLE-RADIUS=500;X-TITLE=Israel:geo:35.220086,31.267046
CATEGORIES:מסיבות וחיי לילה
ATTACH;FMTTYPE=image/jpeg:https://aticket.co.il/wp-content/uploads/2020/07/e66382e7baf50ec0bde5e81f2252d279.jpg
END:VEVENT
END:VCALENDAR