BEGIN:VCALENDAR
VERSION:2.0
PRODID:-//aticket.co.il - ECPv4.3.2//NONSGML v1.0//EN
CALSCALE:GREGORIAN
METHOD:PUBLISH
X-WR-CALNAME:aticket.co.il
X-ORIGINAL-URL:https://aticket.co.il
X-WR-CALDESC:Events for aticket.co.il
BEGIN:VEVENT
DTSTART;TZID=UTC+3:20170408T150000
DTEND;TZID=UTC+3:20170408T235500
DTSTAMP:20210612T125404
CREATED:20170331T204449Z
LAST-MODIFIED:20170331T204449Z
UID:6679-1491663600-1491695700@aticket.co.il
SUMMARY:Brunch with The Temple of Midburn 2017 // Saturday 8.4 Noon
DESCRIPTION:הבראנצ'ים שלנו כבר מזמן הפכו לאחת המסורות היפות בעיר שמשלבות אווירת אחהצ עם הוויב החתרני של החתול ויוצרים תמהיל מנצח. וזה רק הולך ומשתפר..\nאבל שבת\, ה8.4\, עומד להיות המיוחד שבהם. שילבנו כוחות עם חברי הטמפל של מידברן 2017 לבראנצ' אדום וגרובי במיוחד באווירה ברנרית קו נטוי עירונית נטולת אטיטוד וניקוטין.\n\nכרטיסים זה כאן >> https://www.eventer.co.il/event/temple/vkbZL\n\nהמחנה יחגוג את סיום צביעת 'פיסות חלום אדומות' שהתקיים במהלך השבועיים האחרונים ויביא איתו כמובן לאירוע מספר קטן של אריחים שנשארו כדי שתוכלו למלא אותם בצבעים\, עם עדיפות לגוונים שונים של אדום.. .\nאין צורך לציין שהגריטרים של הקאמפ יפנקו אותנו עם הפתעות אדומות בכל מיני צורות גוונים וכיוונים. פלוס המון תותים. מלא\, מלא תותים.\nאת האירוע ילוו מספר דיג'יים שנבחרו לספק פסקול אלקטרוני אדום לשבת אביבית - אלירן אוסדון\, כפיר שלי\, מארק פינקל\, עופר הולצמן\, יניב וחנה\, דני תובל\, עידו שריג וגארי ומוש.\n\nחשבו לציין שהאירוע כולו הוא למען גיוס כסף להקמת הטמפל שלנו במידברן 2017 וכמובן שתרומתכם חשובה לנו למען הצלחת הפרויקט הזה.\n\nאז בראנצ' מספר 4\, נקודה אחרונה וחשובה – דרס קוד: לפחות פריט או אביזר לבוש אחד אדום.\nנתראה מתחת לאדמה חברים..\n\nכרטיסים >> https://www.eventer.co.il/event/temple/vkbZL\n\n-----------------------------------------------------------\n\nעקב מספר המקומות המוגבל - הכניסה לאירוע מותנית ברשימות\nהמוזמנים בלבד - יודגש כי אישור הגעה ב"איבנט"\n(דף האירוע) איננו מהווה רישום ברשימת המוזמנים.\n\nכניסה לאירוע תתבצע בכפוף לרישום ברשימות המוזמנים אצל אנשי צוות המועדון - ולפי סדר הגעה.\n\nעדיפות בכניסה לקהל הלקחות הקבועים במועדון\n\nלפרטים נוספים אתם יודעים את מי לחפש {
URL:https://aticket.co.il/event/brunch-temple-midburn-2017-saturday-8-4-noon/
LOCATION:קרליבך\, Tel Aviv\, 6713221\, Israel
GEO:32.068625;34.782985
X-APPLE-STRUCTURED-LOCATION;VALUE=URI;X-ADDRESS=קרליבך Tel Aviv 6713221 Israel;X-APPLE-RADIUS=500;X-TITLE=קרליבך:geo:34.782985,32.068625
CATEGORIES:מסיבות טבע
ATTACH;FMTTYPE=image/jpeg:https://aticket.co.il/wp-content/uploads/2017/03/facebook_event_1855523398055152.jpg
END:VEVENT
END:VCALENDAR